BEGIN:VCALENDAR
VERSION:2.0
PRODID:-//Demain - ECPv6.8.1//NONSGML v1.0//EN
CALSCALE:GREGORIAN
METHOD:PUBLISH
X-WR-CALNAME:Demain
X-ORIGINAL-URL:https://mouvement-demain.be
X-WR-CALDESC:Évènements pour Demain
REFRESH-INTERVAL;VALUE=DURATION:PT1H
X-Robots-Tag:noindex
X-PUBLISHED-TTL:PT1H
BEGIN:VTIMEZONE
TZID:Europe/Brussels
BEGIN:DAYLIGHT
TZOFFSETFROM:+0100
TZOFFSETTO:+0200
TZNAME:CEST
DTSTART:20250330T010000
END:DAYLIGHT
BEGIN:STANDARD
TZOFFSETFROM:+0200
TZOFFSETTO:+0100
TZNAME:CET
DTSTART:20251026T010000
END:STANDARD
END:VTIMEZONE
BEGIN:VEVENT
DTSTART;TZID=Europe/Brussels:20250129T180000
DTEND;TZID=Europe/Brussels:20250129T210000
DTSTAMP:20260425T161850
CREATED:20250122T220441Z
LAST-MODIFIED:20250122T220655Z
UID:12083470-1738173600-1738184400@mouvement-demain.be
SUMMARY:Voeux 2025 du Mouvement Demain
DESCRIPTION:Soyez toutes et tous bienvenus aux Voeux 2025 du Mouvement Demain\n\nCela se déroulera à la salle « L’aurore » (162 rue du Midi à 1000 Bruxelles)\n\nAu programme :\n\nCourte prise de parole de nos invités et de nos co-porte-paroles\,\nDrink et grignote « EcoFair »\nPetit concert
URL:https://mouvement-demain.be/evenement/voeux-2025-du-mouvement-demain/
LOCATION:Salle « L’Aurore » de l’Association culturelle Joseph Jacquemotte
CATEGORIES:A la une
ATTACH;FMTTYPE=image/png:https://mouvement-demain.be/wp-content/uploads/2025/01/Voeux-2025-3.png
ORGANIZER;CN="Mouvement Demain":MAILTO:contact@mouvement-demain.be
END:VEVENT
END:VCALENDAR